BEGIN:VCALENDAR
VERSION:2.0
PRODID:-//ChamberMaster//Event Calendar 2.0//EN
METHOD:PUBLISH
X-PUBLISHED-TTL:P1H
REFRESH-INTERVAL:P1H
CALSCALE:GREGORIAN
BEGIN:VTIMEZONE
TZID:America/New_York
BEGIN:DAYLIGHT
RRULE:FREQ=YEARLY;BYMONTH=3;BYDAY=2SU
DTSTART:20070101T000000
TZOFFSETFROM:-0500
TZOFFSETTO:-0400
TZNAME:Eastern Daylight Time
END:DAYLIGHT
BEGIN:STANDARD
RRULE:FREQ=YEARLY;BYMONTH=11;BYDAY=1SU
DTSTART:20070101T000000
TZOFFSETFROM:-0400
TZOFFSETTO:-0500
TZNAME:Eastern Standard Time
END:STANDARD
END:VTIMEZONE
BEGIN:VEVENT
DTSTART;TZID=America/New_York:20260424T200000
DTEND;TZID=America/New_York:20260424T230000
X-MICROSOFT-CDO-ALLDAYEVENT:FALSE
SUMMARY:A Proud Monkey Duo: An Evening of Dave Matthews & Tim Reynolds Live From the Chandelier Hall
DESCRIPTION:As members of A Proud Monkey\, Dustin Switzer and Neil Nicastro painstakingly recreate the details of a Dave Matthews Band live experience for fellow fans of DMB to enjoy.\n\nDustin and Neil pour that same passion into their performances as a duo\, where they pay homage to the legendary acoustic sets of Dave Matthews and Tim Reynolds. As talented and accomplished musicians in their own right\, Dustin and Neil are the perfect pair to do justice to these unique renditions of DMB tunes.
X-ALT-DESC;FMTTYPE=text/html:As members of A Proud Monkey\, Dustin Switzer and Neil Nicastro painstakingly recreate the details of a Dave Matthews Band live experience for fellow fans of DMB to enjoy.\n\nDustin and Neil pour that same passion into their performances as a duo\, where they pay homage to the legendary acoustic sets of Dave Matthews and Tim Reynolds. As talented and accomplished musicians in their own right\, Dustin and Neil are the perfect pair to do justice to these unique renditions of DMB tunes.
LOCATION:71 Public Square Wilkes-Barre PA 18701
UID:e.2685.1395019
SEQUENCE:3
DTSTAMP:20260421T153023Z
URL:https://greaterwyomingvalleychamberofcommerce.growthzoneapp.com/chambercalendar/Details/a-proud-monkey-duo-an-evening-of-dave-matthews-tim-reynolds-live-from-the-chandelier-hall-1648425?sourceTypeId=Hub
END:VEVENT
END:VCALENDAR
