BEGIN:VCALENDAR
VERSION:2.0
PRODID:-//ChamberMaster//Event Calendar 2.0//EN
METHOD:PUBLISH
X-PUBLISHED-TTL:P1H
REFRESH-INTERVAL:P1H
CALSCALE:GREGORIAN
BEGIN:VTIMEZONE
TZID:America/New_York
BEGIN:DAYLIGHT
RRULE:FREQ=YEARLY;BYMONTH=3;BYDAY=2SU
DTSTART:20070101T000000
TZOFFSETFROM:-0500
TZOFFSETTO:-0400
TZNAME:Eastern Daylight Time
END:DAYLIGHT
BEGIN:STANDARD
RRULE:FREQ=YEARLY;BYMONTH=11;BYDAY=1SU
DTSTART:20070101T000000
TZOFFSETFROM:-0400
TZOFFSETTO:-0500
TZNAME:Eastern Standard Time
END:STANDARD
END:VTIMEZONE
BEGIN:VEVENT
DTSTART;TZID=America/New_York:20260617T190000
DTEND;TZID=America/New_York:20260617T213000
X-MICROSOFT-CDO-ALLDAYEVENT:FALSE
SUMMARY:True Crime Night with Jarrett Ferentino
DESCRIPTION:Join national legal analyst and author Jarrett Ferentino and guests for an unforgettable evening of powerful true crime storytelling\, featuring the most compelling national and local cases\, those that shaped his career and inspired his new book\, Mothers\, Murders & Motivation.  \n\nThis event includes a book signing & audience Q&A. Books are included with ticket purchase\, while supplies last.\n\nProceeds to benefit the Ava Fellerman Memorial Fund & Wyoming Valley Children’s Association.\n\nAbout Jarrett Ferention\n\nAttorney Jarrett J. Ferentino served as a prosecutor in Pennsylvania for nearly two decades\, handling thousands of major criminal cases\, and earning a reputation as one of the state’s most relentless voices for justice. He is the author of the newly released book Mothers\, Murders\, & Motivation.\n\nJarrett is a partner at the law firm Pugliese\, Finnegan\, Shaffer & Ferentino LLC. Ferentino lives in Kingston\, Pennsylvania\, where he continues to fight for victims and their families. In 2015\, Jarrett was part of the prosecution team that secured murder convictions against notorious serial killer Hugo Selenski. He also represented the family in the 2009 Brittanee Drexel case\, seeking justice for the seventeen-year-old teenager who disappeared in Myrtle Beach\, South Carolina. Jarrett’s expertise has made him a frequent legal analyst on national media.\n\nHe has appeared on ABC’s Good Morning America and 20/20\, the CW Network’s Crime Nation\, New York Homicide\, Crime Stories with Nancy Grace\, Court TV\, and numerous true crime documentaries. Jarrett has been asked to speak to companies\, colleges\, law enforcement academies and many events throughout his career. He is a graduate of King’s College in Wilkes-Barre and the Penn State Dickinson School of Law in Carlisle. Jarrett lives in Pennsylvania with his wife\, Dr. Nicole Ferentino\, their children\, Dominick and Victoria\, and their puppy\, Apollo.
X-ALT-DESC;FMTTYPE=text/html:Join national legal analyst and author Jarrett Ferentino and guests for an unforgettable evening of powerful true crime storytelling\, featuring the most compelling national and local cases\, those that shaped his career and inspired his new book\, Mothers\, Murders & Motivation.  \n\nThis event includes a book signing & audience Q&A. Books are included with ticket purchase\, while supplies last.\n\nProceeds to benefit the Ava Fellerman Memorial Fund & Wyoming Valley Children’s Association.\n\nAbout Jarrett Ferention\n\nAttorney Jarrett J. Ferentino served as a prosecutor in Pennsylvania for nearly two decades\, handling thousands of major criminal cases\, and earning a reputation as one of the state’s most relentless voices for justice. He is the author of the newly released book Mothers\, Murders\, & Motivation.\n\nJarrett is a partner at the law firm Pugliese\, Finnegan\, Shaffer & Ferentino LLC. Ferentino lives in Kingston\, Pennsylvania\, where he continues to fight for victims and their families. In 2015\, Jarrett was part of the prosecution team that secured murder convictions against notorious serial killer Hugo Selenski. He also represented the family in the 2009 Brittanee Drexel case\, seeking justice for the seventeen-year-old teenager who disappeared in Myrtle Beach\, South Carolina. Jarrett’s expertise has made him a frequent legal analyst on national media.\n\nHe has appeared on ABC’s Good Morning America and 20/20\, the CW Network’s Crime Nation\, New York Homicide\, Crime Stories with Nancy Grace\, Court TV\, and numerous true crime documentaries. Jarrett has been asked to speak to companies\, colleges\, law enforcement academies and many events throughout his career. He is a graduate of King’s College in Wilkes-Barre and the Penn State Dickinson School of Law in Carlisle. Jarrett lives in Pennsylvania with his wife\, Dr. Nicole Ferentino\, their children\, Dominick and Victoria\, and their puppy\, Apollo.
LOCATION:71 Public Square Wilkes-Barre PA 18701
UID:e.2685.1417694
SEQUENCE:3
DTSTAMP:20260421T152937Z
URL:https://greaterwyomingvalleychamberofcommerce.growthzoneapp.com/chambercalendar/Details/true-crime-night-with-jarrett-ferentino-1675796?sourceTypeId=Hub
END:VEVENT
END:VCALENDAR
