BEGIN:VCALENDAR
VERSION:2.0
PRODID:-//ChamberMaster//Event Calendar 2.0//EN
METHOD:PUBLISH
X-PUBLISHED-TTL:P1H
REFRESH-INTERVAL:P1H
CALSCALE:GREGORIAN
BEGIN:VTIMEZONE
TZID:America/New_York
BEGIN:DAYLIGHT
RRULE:FREQ=YEARLY;BYMONTH=3;BYDAY=2SU
DTSTART:20070101T000000
TZOFFSETFROM:-0500
TZOFFSETTO:-0400
TZNAME:Eastern Daylight Time
END:DAYLIGHT
BEGIN:STANDARD
RRULE:FREQ=YEARLY;BYMONTH=11;BYDAY=1SU
DTSTART:20070101T000000
TZOFFSETFROM:-0400
TZOFFSETTO:-0500
TZNAME:Eastern Standard Time
END:STANDARD
END:VTIMEZONE
BEGIN:VEVENT
DTSTART;TZID=America/New_York:20260414T120000
DTEND;TZID=America/New_York:20260414T130000
X-MICROSOFT-CDO-ALLDAYEVENT:FALSE
SUMMARY:Art in Context Screening: Fink (2024) featuring talkback with Martha Posner and Lisa Schiller.
DESCRIPTION:Over a sixty-year career\, photographer Larry Fink documented America's humanity\, class divides\, power\, and counterculture from Civil Rights marches to high society. The short documentary Fink\, directed by Lisa Schiller\, offers an intimate portrait of his life and mind\, featuring candid reflections\, daily rituals\, and personal conversations filmed over two years before his death at 82.\nThis screening features a special talkback session with artist Martha Posner\, Fink's spouse\, and Lisa Schiller\, filmmaker\n*Registration required. Please email melissa.carestia@wilkes.edu to reserve your spot.
X-ALT-DESC;FMTTYPE=text/html:<!DOCTYPE html><html><head><title></title></head><body aria-disabled="false"><p>Over a sixty-year career\, photographer Larry Fink documented America&rsquo\;s humanity\, class divides\, power\, and counterculture&mdash\;from Civil Rights marches to high society. The short documentary <em>Fink\,&nbsp\;</em>directed by Lisa Schiller\, offers an intimate portrait of his life and mind\, featuring candid reflections\, daily rituals\, and personal conversations filmed over two years before his death at 82.</p><p><br></p><p>This screening features a special talkback session with artist Martha Posner\, Fink&rsquo\;s spouse\, and Lisa Schiller\, filmmaker</p><p><br><em>*Registration required. Please email&nbsp\;</em><a fr-original-style="" href="mailto:melissa.carestia@wilkes.edu" style="user-select: auto\;"><em>melissa.carestia@wilkes.edu</em></a><em>&nbsp\;to reserve your spot.</em></p></body></html>
LOCATION:
UID:e.2685.1417002
SEQUENCE:3
DTSTAMP:20260421T152936Z
URL:https://greaterwyomingvalleychamberofcommerce.growthzoneapp.com/chambercalendar/Details/art-in-context-screening-fink-2024-featuring-talkback-with-martha-posner-and-lisa-schiller-1674888?sourceTypeId=Hub
END:VEVENT
END:VCALENDAR
