BEGIN:VCALENDAR
VERSION:2.0
PRODID:-//ChamberMaster//Event Calendar 2.0//EN
METHOD:PUBLISH
X-PUBLISHED-TTL:P1H
REFRESH-INTERVAL:P1H
CALSCALE:GREGORIAN
BEGIN:VTIMEZONE
TZID:America/New_York
BEGIN:DAYLIGHT
RRULE:FREQ=YEARLY;BYMONTH=3;BYDAY=2SU
DTSTART:20070101T000000
TZOFFSETFROM:-0500
TZOFFSETTO:-0400
TZNAME:Eastern Daylight Time
END:DAYLIGHT
BEGIN:STANDARD
RRULE:FREQ=YEARLY;BYMONTH=11;BYDAY=1SU
DTSTART:20070101T000000
TZOFFSETFROM:-0400
TZOFFSETTO:-0500
TZNAME:Eastern Standard Time
END:STANDARD
END:VTIMEZONE
BEGIN:VEVENT
DTSTART;TZID=America/New_York:20260731T193000
DTEND;TZID=America/New_York:20260731T223000
X-MICROSOFT-CDO-ALLDAYEVENT:FALSE
SUMMARY:Brit Floyd: The Moon\, the Wall and Beyond
DESCRIPTION:Brit Floyd – The World’s Premier Pink Floyd Experience .. Rolling Stone Magazine has announced their 2026 world tour: “The Moon\, The Wall and Beyond.” This monumental new production celebrates two of the most iconic and influential albums in rock history — Pink Floyd’s The Dark Side of the Moon and The Wall — with a breathtaking show that captures the spirit\, sound\, and spectacle of the legendary band.\n\nThe 2026 tour will feature a full performance of seminal album The Dark Side of the Moon including timeless classics such as “Time\,” “Money\,”  and highlights from The Wall\, including “Hey You”\, “Comfortably Numb\,” and “Another Brick in the Wall\, Part 2.” In addition\, audiences can expect a rich selection of fan favorites from across Pink Floyd’s vast discography — from Wish You Were Here to The Division Bell and beyond.\n\nSince their formation\, Brit Floyd has set the standard for tribute performances\, delivering stadium-scale concerts that combine stunning musicianship\, cutting-edge visuals\, and an unparalleled attention to detail. With over 1\,500 shows performed in more than 40 countries\, Brit Floyd has earned worldwide acclaim as the definitive live Pink Floyd experience.\n\nTouring musicians from both Pink Floyd and Roger Waters touring band have graced stages in recent years with Brit Floyd in the US\, UK\, and Europe\, including Pink Floyd bassist/vocalist Guy Pratt\, backing vocalists Durga McBroom & Roberta Freeman\, Pink Floyd saxophonist Scott Page\, Hammond organist/keyboardist Harry Waters and drummer Graham Broad both of Roger Waters’ touring band. In the summer of 2025\,  Brit Floyd collaborated and performed an acclaimed double-bill run of shows throughout iconic venues in California and Reno with musician/producer icon Alan Parsons.\n\nAccompanied by a state-of-the-art light show\, lasers\, video projections\, inflatables\, and theatrical staging\, “The Moon\, The Wall and Beyond” promises to be Brit Floyd’s most ambitious and immersive production to date — a must-see event for lifelong Floyd fans and new generations alike.
X-ALT-DESC;FMTTYPE=text/html:Brit Floyd – The World’s Premier Pink Floyd Experience .. Rolling Stone Magazine has announced their 2026 world tour: “The Moon\, The Wall and Beyond.” This monumental new production celebrates two of the most iconic and influential albums in rock history — Pink Floyd’s The Dark Side of the Moon and The Wall — with a breathtaking show that captures the spirit\, sound\, and spectacle of the legendary band.\n\nThe 2026 tour will feature a full performance of seminal album The Dark Side of the Moon including timeless classics such as “Time\,” “Money\,”  and highlights from The Wall\, including “Hey You”\, “Comfortably Numb\,” and “Another Brick in the Wall\, Part 2.” In addition\, audiences can expect a rich selection of fan favorites from across Pink Floyd’s vast discography — from Wish You Were Here to The Division Bell and beyond.\n\nSince their formation\, Brit Floyd has set the standard for tribute performances\, delivering stadium-scale concerts that combine stunning musicianship\, cutting-edge visuals\, and an unparalleled attention to detail. With over 1\,500 shows performed in more than 40 countries\, Brit Floyd has earned worldwide acclaim as the definitive live Pink Floyd experience.\n\nTouring musicians from both Pink Floyd and Roger Waters touring band have graced stages in recent years with Brit Floyd in the US\, UK\, and Europe\, including Pink Floyd bassist/vocalist Guy Pratt\, backing vocalists Durga McBroom & Roberta Freeman\, Pink Floyd saxophonist Scott Page\, Hammond organist/keyboardist Harry Waters and drummer Graham Broad both of Roger Waters’ touring band. In the summer of 2025\,  Brit Floyd collaborated and performed an acclaimed double-bill run of shows throughout iconic venues in California and Reno with musician/producer icon Alan Parsons.\n\nAccompanied by a state-of-the-art light show\, lasers\, video projections\, inflatables\, and theatrical staging\, “The Moon\, The Wall and Beyond” promises to be Brit Floyd’s most ambitious and immersive production to date — a must-see event for lifelong Floyd fans and new generations alike.
LOCATION:71 Public Square Wilkes-Barre PA 18701
UID:e.2685.1415883
SEQUENCE:3
DTSTAMP:20260421T152917Z
URL:https://greaterwyomingvalleychamberofcommerce.growthzoneapp.com/chambercalendar/Details/brit-floyd-the-moon-the-wall-and-beyond-1673364?sourceTypeId=Hub
END:VEVENT
END:VCALENDAR
